BEGIN:VCALENDAR
PRODID: University of Exeter
VERSION:2.0
BEGIN:VTIMEZONE
TZID:Europe/London
X-LIC-LOCATION:Europe/London
BEGIN:DAYLIGHT
TZOFFSETFROM:+0000
TZOFFSETTO:+0100
TZNAME:BST
DTSTART:20200526T150000
RRULE:FREQ=YEARLY;BYDAY=-1SU;BYMONTH=3
END:DAYLIGHT
BEGIN:STANDARD
TZOFFSETFROM:+0100
TZOFFSETTO:+0000
TZNAME:GMT
DTSTART:20200526T150000
RRULE:FREQ=YEARLY;BYDAY=-1SU;BYMONTH=10
END:STANDARD
END:VTIMEZONE
METHOD:PUBLISH
BEGIN:VEVENT
SUMMARY; CHARSET=UTF-8 :IDSAI Seminar: Professor Deborah Ashby - Florence Nightingale, pigeonholes and mustard seeds: using data to improve health from the time of the Crimea to the time of the coronavirus
UID:exeter_event_10299
URL:http://www.exeter.ac.uk/events/details/?event=10299
DTSTART;VALUE=DATE:20200526T150000
DTEND;VALUE=DATE:20200526T160000
X-MICROSOFT-CDO-ALLDAYEVENT:FALSE
ORGANIZER: MAILTO:
ATTACH: http://www.exeter.ac.uk/events/details/?event=10299
DTSTAMP:20200528T120615
LOCATION:https://us02web.zoom.us/j/84669147037
DESCRIPTION; CHARSET=UTF-8 :Watch the recording of Professor Deborah Ashby&#39;s seminar here: https://universityofexeteruk.sharepoint.com/:v:/s/IDSAI/EZFNxla3L-1Girx76ho62O4BDBVKyGLPMbWeVPgXuIv4lg?e=pghLBehttp://www.exeter.ac.uk/events/details/?event=10299
SEQUENCE:0
PRIORITY:5
CLASS:
STATUS:CONFIRMED
TRANSP:TRANSPARENT
X-MICROSOFT-CDO-IMPORTANCE:1
X-Microsoft-CDO-BUSYSTATUS:FREE
X-MICROSOFT-CDO-INSTTYPE:0
X-Microsoft-CDO-INTENDEDSTATUS:FREE
END:VEVENT
END:VCALENDAR