BEGIN:VCALENDAR
PRODID: University of Exeter
VERSION:2.0
BEGIN:VTIMEZONE
TZID:Europe/London
X-LIC-LOCATION:Europe/London
BEGIN:DAYLIGHT
TZOFFSETFROM:+0000
TZOFFSETTO:+0100
TZNAME:BST
DTSTART:20200323T130000
RRULE:FREQ=YEARLY;BYDAY=-1SU;BYMONTH=3
END:DAYLIGHT
BEGIN:STANDARD
TZOFFSETFROM:+0100
TZOFFSETTO:+0000
TZNAME:GMT
DTSTART:20200323T130000
RRULE:FREQ=YEARLY;BYDAY=-1SU;BYMONTH=10
END:STANDARD
END:VTIMEZONE
METHOD:PUBLISH
BEGIN:VEVENT
SUMMARY; CHARSET=UTF-8 :POSTPONED: The ethical implications of AI and data science research
UID:exeter_event_10263
URL:http://www.exeter.ac.uk/events/details/?event=10263
DTSTART;VALUE=DATE:20200323T130000
DTEND;VALUE=DATE:20200323T143000
X-MICROSOFT-CDO-ALLDAYEVENT:FALSE
ORGANIZER: MAILTO:
ATTACH: http://www.exeter.ac.uk/events/details/?event=10263
DTSTAMP:20200319T083753
LOCATION:LSI Seminar Room A
DESCRIPTION; CHARSET=UTF-8 :THIS EVENT HAS BEEN POSTPONED
Join a panel of colleagues from the Institute for Data Science and AI for an opportunity to consider and discuss the ethical implications when undertaking AI and data science research. http://www.exeter.ac.uk/events/details/?event=10263
SEQUENCE:0
PRIORITY:5
CLASS:
STATUS:CONFIRMED
TRANSP:TRANSPARENT
X-MICROSOFT-CDO-IMPORTANCE:1
X-Microsoft-CDO-BUSYSTATUS:FREE
X-MICROSOFT-CDO-INSTTYPE:0
X-Microsoft-CDO-INTENDEDSTATUS:FREE
END:VEVENT
END:VCALENDAR