BEGIN:VCALENDAR
PRODID: University of Exeter
VERSION:2.0
BEGIN:VTIMEZONE
TZID:Europe/London
X-LIC-LOCATION:Europe/London
BEGIN:DAYLIGHT
TZOFFSETFROM:+0000
TZOFFSETTO:+0100
TZNAME:BST
DTSTART:20200317T131500
RRULE:FREQ=YEARLY;BYDAY=-1SU;BYMONTH=3
END:DAYLIGHT
BEGIN:STANDARD
TZOFFSETFROM:+0100
TZOFFSETTO:+0000
TZNAME:GMT
DTSTART:20200317T131500
RRULE:FREQ=YEARLY;BYDAY=-1SU;BYMONTH=10
END:STANDARD
END:VTIMEZONE
METHOD:PUBLISH
BEGIN:VEVENT
SUMMARY; CHARSET=UTF-8 :Professor Helen Margetts OBE:  Re-thinking Government with AI: The Alan Turing Institute Public Policy Programme
UID:exeter_event_10222
URL:http://www.exeter.ac.uk/events/details/?event=10222
DTSTART;VALUE=DATE:20200317T131500
DTEND;VALUE=DATE:20200317T141500
X-MICROSOFT-CDO-ALLDAYEVENT:FALSE
ORGANIZER: MAILTO:
ATTACH: http://www.exeter.ac.uk/events/details/?event=10222
DTSTAMP:20200219T100117
LOCATION:Newman Purple LT
DESCRIPTION; CHARSET=UTF-8 :The IDSAI are delighted to announce that Professor Helen Margetts OBE will be giving an open talk  to Exeter staff and students on Tuesday 17th March.  
http://www.exeter.ac.uk/events/details/?event=10222
SEQUENCE:0
PRIORITY:5
CLASS:
STATUS:CONFIRMED
TRANSP:TRANSPARENT
X-MICROSOFT-CDO-IMPORTANCE:1
X-Microsoft-CDO-BUSYSTATUS:FREE
X-MICROSOFT-CDO-INSTTYPE:0
X-Microsoft-CDO-INTENDEDSTATUS:FREE
END:VEVENT
END:VCALENDAR